dset dummy.dat
options template
undef -999.0
title dummy control file
xdef 75 linear -120.0 1.0
ydef 50 linear 20.0 1.0
zdef 1 levels 0
tdef 1 linear 14z05jan1987 24hr
vars 1
dummy 0 99 dummy variable
endvars
